BEGIN:VCALENDAR
VERSION:2.0
PRODID:-//Comptoir des Alouettes - ECPv6.15.18//NONSGML v1.0//EN
CALSCALE:GREGORIAN
METHOD:PUBLISH
X-WR-CALNAME:Comptoir des Alouettes
X-ORIGINAL-URL:https://lecomptoirdesalouettes.fr
X-WR-CALDESC:Évènements pour Comptoir des Alouettes
REFRESH-INTERVAL;VALUE=DURATION:PT1H
X-Robots-Tag:noindex
X-PUBLISHED-TTL:PT1H
BEGIN:VTIMEZONE
TZID:Europe/Paris
BEGIN:DAYLIGHT
TZOFFSETFROM:+0100
TZOFFSETTO:+0200
TZNAME:CEST
DTSTART:20230326T010000
END:DAYLIGHT
BEGIN:STANDARD
TZOFFSETFROM:+0200
TZOFFSETTO:+0100
TZNAME:CET
DTSTART:20231029T010000
END:STANDARD
BEGIN:DAYLIGHT
TZOFFSETFROM:+0100
TZOFFSETTO:+0200
TZNAME:CEST
DTSTART:20240331T010000
END:DAYLIGHT
BEGIN:STANDARD
TZOFFSETFROM:+0200
TZOFFSETTO:+0100
TZNAME:CET
DTSTART:20241027T010000
END:STANDARD
BEGIN:DAYLIGHT
TZOFFSETFROM:+0100
TZOFFSETTO:+0200
TZNAME:CEST
DTSTART:20250330T010000
END:DAYLIGHT
BEGIN:STANDARD
TZOFFSETFROM:+0200
TZOFFSETTO:+0100
TZNAME:CET
DTSTART:20251026T010000
END:STANDARD
END:VTIMEZONE
BEGIN:VEVENT
DTSTART;TZID=Europe/Paris:20240621T180000
DTEND;TZID=Europe/Paris:20240621T220000
DTSTAMP:20260423T201503
CREATED:20240626T100310Z
LAST-MODIFIED:20240702T131817Z
UID:1105-1718992800-1719007200@lecomptoirdesalouettes.fr
SUMMARY:Fête de la musique le 21 juin au Comptoir !
DESCRIPTION:
URL:https://lecomptoirdesalouettes.fr/event/fete-de-la-musique-le-21-juin-au-comptoir/
END:VEVENT
END:VCALENDAR