BEGIN:VCALENDAR
VERSION:2.0
PRODID:-//Comptoir des Alouettes - ECPv6.15.18//NONSGML v1.0//EN
CALSCALE:GREGORIAN
METHOD:PUBLISH
X-ORIGINAL-URL:https://lecomptoirdesalouettes.fr
X-WR-CALDESC:Évènements pour Comptoir des Alouettes
REFRESH-INTERVAL;VALUE=DURATION:PT1H
X-Robots-Tag:noindex
X-PUBLISHED-TTL:PT1H
BEGIN:VTIMEZONE
TZID:Europe/Paris
BEGIN:DAYLIGHT
TZOFFSETFROM:+0100
TZOFFSETTO:+0200
TZNAME:CEST
DTSTART:20230326T010000
END:DAYLIGHT
BEGIN:STANDARD
TZOFFSETFROM:+0200
TZOFFSETTO:+0100
TZNAME:CET
DTSTART:20231029T010000
END:STANDARD
BEGIN:DAYLIGHT
TZOFFSETFROM:+0100
TZOFFSETTO:+0200
TZNAME:CEST
DTSTART:20240331T010000
END:DAYLIGHT
BEGIN:STANDARD
TZOFFSETFROM:+0200
TZOFFSETTO:+0100
TZNAME:CET
DTSTART:20241027T010000
END:STANDARD
BEGIN:DAYLIGHT
TZOFFSETFROM:+0100
TZOFFSETTO:+0200
TZNAME:CEST
DTSTART:20250330T010000
END:DAYLIGHT
BEGIN:STANDARD
TZOFFSETFROM:+0200
TZOFFSETTO:+0100
TZNAME:CET
DTSTART:20251026T010000
END:STANDARD
END:VTIMEZONE
BEGIN:VEVENT
DTSTART;VALUE=DATE:20240903
DTEND;VALUE=DATE:20240904
DTSTAMP:20260423T085800
CREATED:20240723T095652Z
LAST-MODIFIED:20240723T100203Z
UID:1242-1725321600-1725407999@lecomptoirdesalouettes.fr
SUMMARY:Réouverture du Comptoir après l'été !
DESCRIPTION:Au plaisir de vous retrouver mardi 3 septembre\, après l’été ! \nDès 14h pour ceux qui souhaitent donner un coup de main et à 16h30 à l’ouverture de l’épicerie et de la cabane\, pour les autres !
URL:https://lecomptoirdesalouettes.fr/event/reouverture-du-comptoir-apres-lete/
ATTACH;FMTTYPE=image/jpeg:https://lecomptoirdesalouettes.fr/wp-content/uploads/2024/07/DSC_0065-scaled.jpg
END:VEVENT
BEGIN:VEVENT
DTSTART;VALUE=DATE:20240913
DTEND;VALUE=DATE:20240914
DTSTAMP:20260423T085800
CREATED:20240906T140906Z
LAST-MODIFIED:20240906T140909Z
UID:1271-1726185600-1726271999@lecomptoirdesalouettes.fr
SUMMARY:Besoin de cuisinier.es pour vendredi prochain !
DESCRIPTION:Encore une fois\, la ville de Nantes fait appel au Comptoir des Alouettes pour réaliser leur goûter zéro déchet de rentrée ! \nIl s’adresse aux élèves de CM2 et de 6ème du quartier. \nNous devons donc leur livrer vendredi prochain (le 13) 150 parts de cakes salés et 150 parts de gâteaux ! Nous savons désormais que grâce aux talents de nos adhérents bénévoles\, c’est tout à fait possible !! \nN’hésitez pas à contacter Odile (07 83 49 20 01) ou à nous écrire un mail (lecomptoirdesalouettes@gmail.com) si vous souhaitez participer. \nPar avance merci pour votre aide toujours aussi précieuse !!
URL:https://lecomptoirdesalouettes.fr/event/besoin-de-cuisinier-es-pour-vendredi-prochain/
ATTACH;FMTTYPE=image/jpeg:https://lecomptoirdesalouettes.fr/wp-content/uploads/2024/09/GouterZD0923-scaled.jpeg
END:VEVENT
BEGIN:VEVENT
DTSTART;TZID=Europe/Paris:20240928T090000
DTEND;TZID=Europe/Paris:20240928T170000
DTSTAMP:20260423T085800
CREATED:20240924T073646Z
LAST-MODIFIED:20240924T073649Z
UID:1344-1727514000-1727542800@lecomptoirdesalouettes.fr
SUMMARY:Formation compostage
DESCRIPTION:L’association Compostri\, qui accompagne le développement du compostage partagé à Nantes Métropole\, vient dispenser une formation de « référent.e de site » samedi prochain\, le 28 septembre. Entre 9h et 17h\, vous enrichirez vos connaissances sur le fonctionnement d’un composteur\, vous ferez connaissance avec les insectes qui décomposent nos restes\, on vous rappellera les règles d’or pour l’aider à être en bonne santé\, etc. L’après-midi sera consacré à la partie pratique : vous participerez certainement à un retournement !\nInscription au Comptoir ou auprès de Compostri directement.
URL:https://lecomptoirdesalouettes.fr/event/formation-compostage/
ATTACH;FMTTYPE=image/jpeg:https://lecomptoirdesalouettes.fr/wp-content/uploads/2024/09/P1020729-scaled-e1727163392712.jpg
END:VEVENT
END:VCALENDAR