BEGIN:VCALENDAR
VERSION:2.0
PRODID:-//Comptoir des Alouettes - ECPv6.15.18//NONSGML v1.0//EN
CALSCALE:GREGORIAN
METHOD:PUBLISH
X-WR-CALNAME:Comptoir des Alouettes
X-ORIGINAL-URL:https://lecomptoirdesalouettes.fr
X-WR-CALDESC:Évènements pour Comptoir des Alouettes
REFRESH-INTERVAL;VALUE=DURATION:PT1H
X-Robots-Tag:noindex
X-PUBLISHED-TTL:PT1H
BEGIN:VTIMEZONE
TZID:Europe/Paris
BEGIN:DAYLIGHT
TZOFFSETFROM:+0100
TZOFFSETTO:+0200
TZNAME:CEST
DTSTART:20230326T010000
END:DAYLIGHT
BEGIN:STANDARD
TZOFFSETFROM:+0200
TZOFFSETTO:+0100
TZNAME:CET
DTSTART:20231029T010000
END:STANDARD
BEGIN:DAYLIGHT
TZOFFSETFROM:+0100
TZOFFSETTO:+0200
TZNAME:CEST
DTSTART:20240331T010000
END:DAYLIGHT
BEGIN:STANDARD
TZOFFSETFROM:+0200
TZOFFSETTO:+0100
TZNAME:CET
DTSTART:20241027T010000
END:STANDARD
BEGIN:DAYLIGHT
TZOFFSETFROM:+0100
TZOFFSETTO:+0200
TZNAME:CEST
DTSTART:20250330T010000
END:DAYLIGHT
BEGIN:STANDARD
TZOFFSETFROM:+0200
TZOFFSETTO:+0100
TZNAME:CET
DTSTART:20251026T010000
END:STANDARD
END:VTIMEZONE
BEGIN:VEVENT
DTSTART;TZID=Europe/Paris:20241001T101500
DTEND;TZID=Europe/Paris:20241001T111500
DTSTAMP:20260423T053217
CREATED:20240920T135018Z
LAST-MODIFIED:20240920T135252Z
UID:1326-1727777700-1727781300@lecomptoirdesalouettes.fr
SUMMARY:Cours de pilates
DESCRIPTION:Débutant.es ou confirmé.es\, vous êtes convié.es à venir tester le pilates au Comptoir les mardi de 10h15 à 11h15.\nLa reprise a lieu mardi 1er octobre.\nVenez avec votre tapis. Détente\, bienfaits et bienveillance garantis !\nPrix libre !
URL:https://lecomptoirdesalouettes.fr/event/cours-de-pilates/
ATTACH;FMTTYPE=image/jpeg:https://lecomptoirdesalouettes.fr/wp-content/uploads/2024/09/5-e1726840303113.jpg
END:VEVENT
BEGIN:VEVENT
DTSTART;TZID=Europe/Paris:20241005T093000
DTEND;TZID=Europe/Paris:20241005T123000
DTSTAMP:20260423T053217
CREATED:20240920T135822Z
LAST-MODIFIED:20240920T135828Z
UID:1337-1728120600-1728131400@lecomptoirdesalouettes.fr
SUMMARY:Atelier jardinage
DESCRIPTION:Les mains dans la terre\, en silence ou en bavardant\, venez nous aider à entretenir les bosquets et les parterres du Comptoir. Un moment ou toute la matinée\, profitons des bienfaits du jardinage pour le corps et l’esprit !\nNous pourrons ensuite partager un pique-nique si le cœur vous en dit !
URL:https://lecomptoirdesalouettes.fr/event/atelier-jardinage/
ATTACH;FMTTYPE=image/jpeg:https://lecomptoirdesalouettes.fr/wp-content/uploads/2024/09/4-2-e1726840332933.jpg
END:VEVENT
BEGIN:VEVENT
DTSTART;TZID=Europe/Paris:20241011T190000
DTEND;TZID=Europe/Paris:20241011T210000
DTSTAMP:20260423T053217
CREATED:20240920T140345Z
LAST-MODIFIED:20240920T140349Z
UID:1340-1728673200-1728680400@lecomptoirdesalouettes.fr
SUMMARY:Soirée jeux de société
DESCRIPTION:Vendredi 11 octobre\, les soirées jeux reprennent au Comptoir !\nTu peux venir seul.e\, accompagné.e\, avec ou sans tes boîtes de jeux préférés !\nCette soirée sera arrosée d’une délicieuse soupe faite maison\, évidemment !\nAu plaisir !
URL:https://lecomptoirdesalouettes.fr/event/soiree-jeux-de-societe/
ATTACH;FMTTYPE=image/jpeg:https://lecomptoirdesalouettes.fr/wp-content/uploads/2024/09/7-e1726840356957.jpg
END:VEVENT
BEGIN:VEVENT
DTSTART;TZID=Europe/Paris:20241018T190000
DTEND;TZID=Europe/Paris:20241018T210000
DTSTAMP:20260423T053217
CREATED:20241011T092726Z
LAST-MODIFIED:20241015T094642Z
UID:1360-1729278000-1729285200@lecomptoirdesalouettes.fr
SUMMARY:Pique-nique partagé
DESCRIPTION:Venez partager un moment convivial autour d’un repas ! \nNul besoin d’être grand cuisinier\, chacun.e ramène son plat préféré\, sa spécialité du moment pour le plaisir des papilles\, en toute simplicité. \n> Inscription au Comptoir ou par téléphone/ mail (conseillé pour organiser l’espace !)
URL:https://lecomptoirdesalouettes.fr/event/pique-nique-partage/
LOCATION:Le Comptoir des Alouettes\, 19 rue des Alouettes\, Nantes\, 44100
ATTACH;FMTTYPE=image/png:https://lecomptoirdesalouettes.fr/wp-content/uploads/2024/10/Repas-partage-e1728984328774.png
END:VEVENT
BEGIN:VEVENT
DTSTART;TZID=Europe/Paris:20241026T093000
DTEND;TZID=Europe/Paris:20241026T123000
DTSTAMP:20260423T053217
CREATED:20241015T090356Z
LAST-MODIFIED:20241024T202134Z
UID:1394-1729935000-1729945800@lecomptoirdesalouettes.fr
SUMMARY:REPORTÉ - Atelier cuisine
DESCRIPTION:DÉSOLÉ\, CET ATELIER EST REPORTÉ PROCHAINEMENT \nParticipez à cet atelier cuisine animé par des bénévoles du Comptoir sur le thème de la cuisine indienne ! Les mets préparés seront ensuite dégustés lors d’un déjeuner convivial. \n* Durée : Atelier de 9h30 à 12h 30 + repas / Inscription au plus tard la veille : sur place ou par mail \n* Les ateliers cuisine ont lieu chaque mois\, ouverts à toutes vos idées et animés par les adhérent.e.s. Que vous souhaitiez transmettre une tradition/spécialité culinaire ou que vous ayez envie d’en tester une en bonne compagnie sans être spécialiste\, cet atelier est pour vous !
URL:https://lecomptoirdesalouettes.fr/event/atelier-cuisine/
LOCATION:Le Comptoir des Alouettes\, 19 rue des Alouettes\, Nantes\, 44100
ATTACH;FMTTYPE=image/jpeg:https://lecomptoirdesalouettes.fr/wp-content/uploads/2024/10/illustr-buffet-1.jpg
END:VEVENT
END:VCALENDAR