BEGIN:VCALENDAR
VERSION:2.0
PRODID:-//Comptoir des Alouettes - ECPv6.15.18//NONSGML v1.0//EN
CALSCALE:GREGORIAN
METHOD:PUBLISH
X-WR-CALNAME:Comptoir des Alouettes
X-ORIGINAL-URL:https://lecomptoirdesalouettes.fr
X-WR-CALDESC:Évènements pour Comptoir des Alouettes
REFRESH-INTERVAL;VALUE=DURATION:PT1H
X-Robots-Tag:noindex
X-PUBLISHED-TTL:PT1H
BEGIN:VTIMEZONE
TZID:Europe/Paris
BEGIN:DAYLIGHT
TZOFFSETFROM:+0100
TZOFFSETTO:+0200
TZNAME:CEST
DTSTART:20240331T010000
END:DAYLIGHT
BEGIN:STANDARD
TZOFFSETFROM:+0200
TZOFFSETTO:+0100
TZNAME:CET
DTSTART:20241027T010000
END:STANDARD
BEGIN:DAYLIGHT
TZOFFSETFROM:+0100
TZOFFSETTO:+0200
TZNAME:CEST
DTSTART:20250330T010000
END:DAYLIGHT
BEGIN:STANDARD
TZOFFSETFROM:+0200
TZOFFSETTO:+0100
TZNAME:CET
DTSTART:20251026T010000
END:STANDARD
BEGIN:DAYLIGHT
TZOFFSETFROM:+0100
TZOFFSETTO:+0200
TZNAME:CEST
DTSTART:20260329T010000
END:DAYLIGHT
BEGIN:STANDARD
TZOFFSETFROM:+0200
TZOFFSETTO:+0100
TZNAME:CET
DTSTART:20261025T010000
END:STANDARD
END:VTIMEZONE
BEGIN:VEVENT
DTSTART;TZID=Europe/Paris:20250401T080000
DTEND;TZID=Europe/Paris:20250430T170000
DTSTAMP:20260422T055135
CREATED:20250328T111048Z
LAST-MODIFIED:20250404T102932Z
UID:1759-1743494400-1746032400@lecomptoirdesalouettes.fr
SUMMARY:L'agenda d'avril
DESCRIPTION:Le Comptoir\, un lieu de vie et de partage. \nCe mois-ci\, retrouvons-nous autour d’une soupe\, d’une machine à coudre\, aux fourneaux mais aussi et surtout… à notre assemblée générale\, le vendredi 25 avril ! \nOn n’attend plus que vous !
URL:https://lecomptoirdesalouettes.fr/event/lagenda-davril/
ATTACH;FMTTYPE=image/png:https://lecomptoirdesalouettes.fr/wp-content/uploads/2025/03/4.png
END:VEVENT
BEGIN:VEVENT
DTSTART;TZID=Europe/Paris:20250414T080000
DTEND;TZID=Europe/Paris:20250421T170000
DTSTAMP:20260422T055135
CREATED:20250404T102233Z
LAST-MODIFIED:20250404T102849Z
UID:1788-1744617600-1745254800@lecomptoirdesalouettes.fr
SUMMARY:Vacances d'avril
DESCRIPTION:
URL:https://lecomptoirdesalouettes.fr/event/vacances-davril/
ATTACH;FMTTYPE=image/jpeg:https://lecomptoirdesalouettes.fr/wp-content/uploads/2025/04/Vacances-Avril.jpg
END:VEVENT
BEGIN:VEVENT
DTSTART;TZID=Europe/Paris:20250425T190000
DTEND;TZID=Europe/Paris:20250425T210000
DTSTAMP:20260422T055135
CREATED:20250404T102643Z
LAST-MODIFIED:20250404T102747Z
UID:1791-1745607600-1745614800@lecomptoirdesalouettes.fr
SUMMARY:Assemblée générale le 25 avril
DESCRIPTION:Ne ratez pas l’occasion de passer un bon moment au Comptoir\, foisonnant de verdure au printemps\, suivi d’un pot et de crêpes !\nUne AG qui promet d’être joyeuse et gourmande !
URL:https://lecomptoirdesalouettes.fr/event/assemblee-generale-le-25-avril/
ATTACH;FMTTYPE=image/png:https://lecomptoirdesalouettes.fr/wp-content/uploads/2025/04/InvitationAG.png
END:VEVENT
BEGIN:VEVENT
DTSTART;TZID=Europe/Paris:20250430T080000
DTEND;TZID=Europe/Paris:20250531T170000
DTSTAMP:20260422T055135
CREATED:20250430T100348Z
LAST-MODIFIED:20250430T100352Z
UID:1813-1746000000-1748710800@lecomptoirdesalouettes.fr
SUMMARY:L'agenda de mai
DESCRIPTION:
URL:https://lecomptoirdesalouettes.fr/event/lagenda-de-mai/
ATTACH;FMTTYPE=image/jpeg:https://lecomptoirdesalouettes.fr/wp-content/uploads/2025/04/4.jpg
END:VEVENT
END:VCALENDAR