BEGIN:VCALENDAR
VERSION:2.0
PRODID:-//Comptoir des Alouettes - ECPv6.15.18//NONSGML v1.0//EN
CALSCALE:GREGORIAN
METHOD:PUBLISH
X-WR-CALNAME:Comptoir des Alouettes
X-ORIGINAL-URL:https://lecomptoirdesalouettes.fr
X-WR-CALDESC:Évènements pour Comptoir des Alouettes
REFRESH-INTERVAL;VALUE=DURATION:PT1H
X-Robots-Tag:noindex
X-PUBLISHED-TTL:PT1H
BEGIN:VTIMEZONE
TZID:Europe/Paris
BEGIN:DAYLIGHT
TZOFFSETFROM:+0100
TZOFFSETTO:+0200
TZNAME:CEST
DTSTART:20240331T010000
END:DAYLIGHT
BEGIN:STANDARD
TZOFFSETFROM:+0200
TZOFFSETTO:+0100
TZNAME:CET
DTSTART:20241027T010000
END:STANDARD
BEGIN:DAYLIGHT
TZOFFSETFROM:+0100
TZOFFSETTO:+0200
TZNAME:CEST
DTSTART:20250330T010000
END:DAYLIGHT
BEGIN:STANDARD
TZOFFSETFROM:+0200
TZOFFSETTO:+0100
TZNAME:CET
DTSTART:20251026T010000
END:STANDARD
BEGIN:DAYLIGHT
TZOFFSETFROM:+0100
TZOFFSETTO:+0200
TZNAME:CEST
DTSTART:20260329T010000
END:DAYLIGHT
BEGIN:STANDARD
TZOFFSETFROM:+0200
TZOFFSETTO:+0100
TZNAME:CET
DTSTART:20261025T010000
END:STANDARD
END:VTIMEZONE
BEGIN:VEVENT
DTSTART;TZID=Europe/Paris:20250430T080000
DTEND;TZID=Europe/Paris:20250531T170000
DTSTAMP:20260422T011411
CREATED:20250430T100348Z
LAST-MODIFIED:20250430T100352Z
UID:1813-1746000000-1748710800@lecomptoirdesalouettes.fr
SUMMARY:L'agenda de mai
DESCRIPTION:
URL:https://lecomptoirdesalouettes.fr/event/lagenda-de-mai/
ATTACH;FMTTYPE=image/jpeg:https://lecomptoirdesalouettes.fr/wp-content/uploads/2025/04/4.jpg
END:VEVENT
BEGIN:VEVENT
DTSTART;TZID=Europe/Paris:20250527T080000
DTEND;TZID=Europe/Paris:20250630T170000
DTSTAMP:20260422T011411
CREATED:20250527T150243Z
LAST-MODIFIED:20250527T150246Z
UID:1862-1748332800-1751302800@lecomptoirdesalouettes.fr
SUMMARY:Agenda de juin
DESCRIPTION:Un agenda aux petits oignons pour profiter de ce beau printemps ensemble ! \nSurtout ne ratez pas l’inauguration de notre fresque murale le samedi 14 juin !!
URL:https://lecomptoirdesalouettes.fr/event/agenda-de-juin/
ATTACH;FMTTYPE=image/jpeg:https://lecomptoirdesalouettes.fr/wp-content/uploads/2025/05/4.jpg
END:VEVENT
END:VCALENDAR