BEGIN:VCALENDAR
VERSION:2.0
PRODID:-//Comptoir des Alouettes - ECPv6.15.18//NONSGML v1.0//EN
CALSCALE:GREGORIAN
METHOD:PUBLISH
X-ORIGINAL-URL:https://lecomptoirdesalouettes.fr
X-WR-CALDESC:Évènements pour Comptoir des Alouettes
REFRESH-INTERVAL;VALUE=DURATION:PT1H
X-Robots-Tag:noindex
X-PUBLISHED-TTL:PT1H
BEGIN:VTIMEZONE
TZID:Europe/Paris
BEGIN:DAYLIGHT
TZOFFSETFROM:+0100
TZOFFSETTO:+0200
TZNAME:CEST
DTSTART:20240331T010000
END:DAYLIGHT
BEGIN:STANDARD
TZOFFSETFROM:+0200
TZOFFSETTO:+0100
TZNAME:CET
DTSTART:20241027T010000
END:STANDARD
BEGIN:DAYLIGHT
TZOFFSETFROM:+0100
TZOFFSETTO:+0200
TZNAME:CEST
DTSTART:20250330T010000
END:DAYLIGHT
BEGIN:STANDARD
TZOFFSETFROM:+0200
TZOFFSETTO:+0100
TZNAME:CET
DTSTART:20251026T010000
END:STANDARD
BEGIN:DAYLIGHT
TZOFFSETFROM:+0100
TZOFFSETTO:+0200
TZNAME:CEST
DTSTART:20260329T010000
END:DAYLIGHT
BEGIN:STANDARD
TZOFFSETFROM:+0200
TZOFFSETTO:+0100
TZNAME:CET
DTSTART:20261025T010000
END:STANDARD
END:VTIMEZONE
BEGIN:VEVENT
DTSTART;TZID=Europe/Paris:20250527T080000
DTEND;TZID=Europe/Paris:20250630T170000
DTSTAMP:20260421T215748
CREATED:20250527T150243Z
LAST-MODIFIED:20250527T150246Z
UID:1862-1748332800-1751302800@lecomptoirdesalouettes.fr
SUMMARY:Agenda de juin
DESCRIPTION:Un agenda aux petits oignons pour profiter de ce beau printemps ensemble ! \nSurtout ne ratez pas l’inauguration de notre fresque murale le samedi 14 juin !!
URL:https://lecomptoirdesalouettes.fr/event/agenda-de-juin/
ATTACH;FMTTYPE=image/jpeg:https://lecomptoirdesalouettes.fr/wp-content/uploads/2025/05/4.jpg
END:VEVENT
BEGIN:VEVENT
DTSTART;TZID=Europe/Paris:20250614T120000
DTEND;TZID=Europe/Paris:20250614T160000
DTSTAMP:20260421T215748
CREATED:20250522T140439Z
LAST-MODIFIED:20250522T141004Z
UID:1853-1749902400-1749916800@lecomptoirdesalouettes.fr
SUMMARY:14 juin : Inauguration de la fresque murale des Alouettes !
DESCRIPTION:Venez donc partager une crêpe\, un gaspacho\, une part de gâteau au son des saxo ou d’instruments rigolos !\nVous pourrez jouer\, vous relaxer\, fabriquer un smoothie à la force de vos mollets\, dans le jardin vous promener.\nVenez fêter avec nous cette belle fresque qui va égayer la rue des Alouettes !
URL:https://lecomptoirdesalouettes.fr/event/14-juin-inauguration-de-la-fresque-murale-des-alouettes/
ATTACH;FMTTYPE=image/jpeg:https://lecomptoirdesalouettes.fr/wp-content/uploads/2025/05/Inauguration-Fresque-muraleVF.jpg
END:VEVENT
BEGIN:VEVENT
DTSTART;TZID=Europe/Paris:20250627T080000
DTEND;TZID=Europe/Paris:20250731T170000
DTSTAMP:20260421T215748
CREATED:20250627T180209Z
LAST-MODIFIED:20250627T180214Z
UID:1877-1751011200-1753981200@lecomptoirdesalouettes.fr
SUMMARY:L'agenda de juillet
DESCRIPTION:
URL:https://lecomptoirdesalouettes.fr/event/lagenda-de-juillet/
ATTACH;FMTTYPE=image/jpeg:https://lecomptoirdesalouettes.fr/wp-content/uploads/2025/06/4.jpg
END:VEVENT
END:VCALENDAR