BEGIN:VCALENDAR
VERSION:2.0
PRODID:-//Comptoir des Alouettes - ECPv6.15.18//NONSGML v1.0//EN
CALSCALE:GREGORIAN
METHOD:PUBLISH
X-WR-CALNAME:Comptoir des Alouettes
X-ORIGINAL-URL:https://lecomptoirdesalouettes.fr
X-WR-CALDESC:Évènements pour Comptoir des Alouettes
REFRESH-INTERVAL;VALUE=DURATION:PT1H
X-Robots-Tag:noindex
X-PUBLISHED-TTL:PT1H
BEGIN:VTIMEZONE
TZID:Europe/Paris
BEGIN:DAYLIGHT
TZOFFSETFROM:+0100
TZOFFSETTO:+0200
TZNAME:CEST
DTSTART:20250330T010000
END:DAYLIGHT
BEGIN:STANDARD
TZOFFSETFROM:+0200
TZOFFSETTO:+0100
TZNAME:CET
DTSTART:20251026T010000
END:STANDARD
BEGIN:DAYLIGHT
TZOFFSETFROM:+0100
TZOFFSETTO:+0200
TZNAME:CEST
DTSTART:20260329T010000
END:DAYLIGHT
BEGIN:STANDARD
TZOFFSETFROM:+0200
TZOFFSETTO:+0100
TZNAME:CET
DTSTART:20261025T010000
END:STANDARD
BEGIN:DAYLIGHT
TZOFFSETFROM:+0100
TZOFFSETTO:+0200
TZNAME:CEST
DTSTART:20270328T010000
END:DAYLIGHT
BEGIN:STANDARD
TZOFFSETFROM:+0200
TZOFFSETTO:+0100
TZNAME:CET
DTSTART:20271031T010000
END:STANDARD
END:VTIMEZONE
BEGIN:VEVENT
DTSTART;TZID=Europe/Paris:20260227T080000
DTEND;TZID=Europe/Paris:20260331T170000
DTSTAMP:20260419T181759
CREATED:20260227T092720Z
LAST-MODIFIED:20260227T093233Z
UID:2258-1772179200-1774976400@lecomptoirdesalouettes.fr
SUMMARY:L'agenda de mars
DESCRIPTION:
URL:https://lecomptoirdesalouettes.fr/event/lagenda-de-mars-2/
ATTACH;FMTTYPE=image/jpeg:https://lecomptoirdesalouettes.fr/wp-content/uploads/2026/02/MeA_Agenda.jpg
END:VEVENT
BEGIN:VEVENT
DTSTART;TZID=Europe/Paris:20260306T170000
DTEND;TZID=Europe/Paris:20260306T190000
DTSTAMP:20260419T181759
CREATED:20260227T101024Z
LAST-MODIFIED:20260227T101426Z
UID:2262-1772816400-1772823600@lecomptoirdesalouettes.fr
SUMMARY:Couture\, broderie\, crêpes
DESCRIPTION:
URL:https://lecomptoirdesalouettes.fr/event/couture-broderie-crepes/
ATTACH;FMTTYPE=image/jpeg:https://lecomptoirdesalouettes.fr/wp-content/uploads/2026/02/Mises-en-avantCouture.jpg
END:VEVENT
BEGIN:VEVENT
DTSTART;TZID=Europe/Paris:20260313T180000
DTEND;TZID=Europe/Paris:20260313T193000
DTSTAMP:20260419T181759
CREATED:20260227T104044Z
LAST-MODIFIED:20260227T104048Z
UID:2270-1773424800-1773430200@lecomptoirdesalouettes.fr
SUMMARY:Jeux d'écriture
DESCRIPTION:
URL:https://lecomptoirdesalouettes.fr/event/jeux-decriture/
ATTACH;FMTTYPE=image/jpeg:https://lecomptoirdesalouettes.fr/wp-content/uploads/2026/02/Mises-en-avant-ecriture.jpg
END:VEVENT
END:VCALENDAR